BEGIN:VCALENDAR
VERSION:2.0
PRODID:-//ChamberMaster//Event Calendar 2.0//EN
METHOD:PUBLISH
X-PUBLISHED-TTL:P3D
REFRESH-INTERVAL:P3D
CALSCALE:GREGORIAN
BEGIN:VEVENT
DTSTART:20180328T160000Z
DTEND:20180328T190000Z
X-MICROSOFT-CDO-ALLDAYEVENT:FALSE
SUMMARY:Runners 11-2
DESCRIPTION:Runners 11-2
X-ALT-DESC;FMTTYPE=text/html:Runners 11-2
LOCATION:Morningside Ministries at Menger Springs 1100 Grand Blvd. Boerne\, TX 78006
UID:e.187.13649
SEQUENCE:3
DTSTAMP:20260422T120418Z
URL:https://business.boerne.org/events/details/runners-11-2-13649
END:VEVENT

END:VCALENDAR
