BEGIN:VCALENDAR
VERSION:2.0
PRODID:-//ChamberMaster//Event Calendar 2.0//EN
METHOD:PUBLISH
X-PUBLISHED-TTL:P3D
REFRESH-INTERVAL:P3D
CALSCALE:GREGORIAN
BEGIN:VEVENT
DTSTART:20180327T150000Z
DTEND:20180327T180000Z
X-MICROSOFT-CDO-ALLDAYEVENT:FALSE
SUMMARY:Runners 10:00- 1:00
DESCRIPTION:Runners for Membership Campaign
X-ALT-DESC;FMTTYPE=text/html:Runners for Membership Campaign
LOCATION:Morningside Ministries at Menger Springs 1100 Grand Blvd. Boerne\, TX 78006
UID:e.187.13646
SEQUENCE:3
DTSTAMP:20260422T120535Z
URL:https://business.boerne.org/events/details/runners-10-00-1-00-13646
END:VEVENT

END:VCALENDAR
