BEGIN:VCALENDAR
VERSION:2.0
PRODID:-//ChamberMaster//Event Calendar 2.0//EN
METHOD:PUBLISH
X-PUBLISHED-TTL:P3D
REFRESH-INTERVAL:P3D
CALSCALE:GREGORIAN
BEGIN:VEVENT
DTSTART:20180327T180000Z
DTEND:20180327T210000Z
X-MICROSOFT-CDO-ALLDAYEVENT:FALSE
SUMMARY:Runners 1:00 pm to 4:00 pm Membership Campaign
DESCRIPTION:Runners 1-4 shift
X-ALT-DESC;FMTTYPE=text/html:Runners 1-4 shift
LOCATION:Morningside Ministries at Menger Springs 1100 Grand Blvd. Boerne\, TX 78006
UID:e.187.13647
SEQUENCE:3
DTSTAMP:20260422T120724Z
URL:https://business.boerne.org/events/details/runners-1-00-pm-to-4-00-pm-membership-campaign-13647
END:VEVENT

END:VCALENDAR
