BEGIN:VCALENDAR
VERSION:2.0
PRODID:-//ChamberMaster//Event Calendar 2.0//EN
METHOD:PUBLISH
X-PUBLISHED-TTL:P3D
REFRESH-INTERVAL:P3D
CALSCALE:GREGORIAN
BEGIN:VEVENT
DTSTART:20250426T223000Z
DTEND:20250427T020000Z
X-MICROSOFT-CDO-ALLDAYEVENT:FALSE
SUMMARY:Rotary Club of Boerne's Casino Night
DESCRIPTION:Join The Rotary Club of Boerne on Saturday\, April 26\, 2025 for their Annual Casino Night! 100% of proceeds benefit service projects\, student scholarships and initiatives benefiting the Boerne and Kendall County community and beyond. Tickets are $100/player and includes $1\,000 chips for gaming\, buffet dinner\, open bar and chance to win big prizes! There is still plenty of sponsorships available\, please email paulawhite107@gmail.com or call 210-710-6335 to claim a sponsorship or buy your tickets!    \n\nhttps://boernerotary.org/Stories/casino-night-ticket-sales
X-ALT-DESC;FMTTYPE=text/html:Join The Rotary Club of Boerne on Saturday\, April 26\, 2025 for their Annual Casino Night! 100% of proceeds benefit service projects\, student scholarships and initiatives benefiting the Boerne and Kendall County community and beyond. Tickets are $100/player and includes $1\,000 chips for gaming\, buffet dinner\, open bar and chance to win big prizes! There is still plenty of sponsorships available\, please email paulawhite107@gmail.com or call 210-710-6335 to claim a sponsorship or buy your tickets! <span style="font-family:segoe ui emoji\,sans-serif\;">&#128420\;&#127922\;&#127920\;</span><br />\n<a href="https://boernerotary.org/Stories/casino-night-ticket-sales">https://boernerotary.org/Stories/casino-night-ticket-sales</a>
LOCATION:
UID:e.187.29212
SEQUENCE:3
DTSTAMP:20260419T130807Z
URL:https://business.boerne.org/events/details/rotary-club-of-boerne-s-casino-night-29212
END:VEVENT

END:VCALENDAR
