BEGIN:VCALENDAR
VERSION:2.0
PRODID:-//ChamberMaster//Event Calendar 2.0//EN
METHOD:PUBLISH
X-PUBLISHED-TTL:P3D
REFRESH-INTERVAL:P3D
CALSCALE:GREGORIAN
BEGIN:VEVENT
DTSTART:20180426T163000Z
DTEND:20180426T170000Z
X-MICROSOFT-CDO-ALLDAYEVENT:FALSE
SUMMARY:Ribbon Cutting ThunderBolt Tacos
DESCRIPTION:Come join us for a Ribbon Cutting Ceremony for ThunderBolt Tacos.
X-ALT-DESC;FMTTYPE=text/html:Come join us for a Ribbon Cutting Ceremony for ThunderBolt Tacos.&nbsp\;
LOCATION:ThunderBolt Tacos 905 N. Main St.\, Ste. 1 Boerne\, TX 78006
UID:e.187.13682
SEQUENCE:3
DTSTAMP:20260422T160835Z
URL:https://business.boerne.org/events/details/ribbon-cutting-thunderbolt-tacos-13682
END:VEVENT

END:VCALENDAR
