BEGIN:VCALENDAR
VERSION:2.0
PRODID:-//ChamberMaster//Event Calendar 2.0//EN
METHOD:PUBLISH
X-PUBLISHED-TTL:P3D
REFRESH-INTERVAL:P3D
CALSCALE:GREGORIAN
BEGIN:VEVENT
DTSTART:20170914T183000Z
DTEND:20170914T190000Z
X-MICROSOFT-CDO-ALLDAYEVENT:FALSE
SUMMARY:Ribbon Cutting River Road Pharmacy
DESCRIPTION:Come join us for a Ribbon Cutting Ceremony for River Road Pharmacy. (link)
X-ALT-DESC;FMTTYPE=text/html:Come join us for a Ribbon Cutting Ceremony for River Road Pharmacy. (<a href="http://www.facebook.com/River-Road-Pharmacy-Gifts-390173707987036/">link</a>)&nbsp\;
LOCATION:River Road Pharmacy 910 River RD.\, Ste. 103 (map) Boerne \, TX 78006 (830) 816-5312
UID:e.187.11981
SEQUENCE:3
DTSTAMP:20260422T213107Z
URL:https://business.boerne.org/events/details/ribbon-cutting-river-road-pharmacy-11981
END:VEVENT

END:VCALENDAR
