BEGIN:VCALENDAR
VERSION:2.0
PRODID:-//ChamberMaster//Event Calendar 2.0//EN
METHOD:PUBLISH
X-PUBLISHED-TTL:P3D
REFRESH-INTERVAL:P3D
CALSCALE:GREGORIAN
BEGIN:VEVENT
DTSTART:20170606T163000Z
DTEND:20170606T170000Z
X-MICROSOFT-CDO-ALLDAYEVENT:FALSE
SUMMARY:Ribbon Cutting Johns Road Antique Mall
DESCRIPTION:Come join us for a Ribbon Cutting Ceremony for Johns Road Antique Mall.
X-ALT-DESC;FMTTYPE=text/html:Come join us for a Ribbon Cutting Ceremony for Johns Road Antique Mall.
LOCATION:Johns Road Antique Mall\, LLC (map) 850 Johns Rd. Boerne\, TX 78006
UID:e.187.11668
SEQUENCE:3
DTSTAMP:20260423T023008Z
URL:https://business.boerne.org/events/details/ribbon-cutting-johns-road-antique-mall-11668
END:VEVENT

END:VCALENDAR
