BEGIN:VCALENDAR
VERSION:2.0
PRODID:-//ChamberMaster//Event Calendar 2.0//EN
METHOD:PUBLISH
X-PUBLISHED-TTL:P3D
REFRESH-INTERVAL:P3D
CALSCALE:GREGORIAN
BEGIN:VEVENT
DTSTART:20180621T163000Z
DTEND:20180621T170000Z
X-MICROSOFT-CDO-ALLDAYEVENT:FALSE
SUMMARY:Ribbon Cutting Inspire2bTransformed\, LLC
DESCRIPTION:Come join us for Ribbon Cutting Ceremony for Inspire2bTransformed. (link)
X-ALT-DESC;FMTTYPE=text/html:Come join us for Ribbon Cutting Ceremony for Inspire2bTransformed. (link)
LOCATION:Greater Boerne Chamber of Commerce 121 South Main Boerne\, TX 78006
UID:e.187.13933
SEQUENCE:3
DTSTAMP:20260420T074255Z
URL:https://business.boerne.org/events/details/ribbon-cutting-inspire2btransformed-llc-13933
END:VEVENT

END:VCALENDAR
