BEGIN:VCALENDAR
VERSION:2.0
PRODID:-//ChamberMaster//Event Calendar 2.0//EN
METHOD:PUBLISH
X-PUBLISHED-TTL:P3D
REFRESH-INTERVAL:P3D
CALSCALE:GREGORIAN
BEGIN:VEVENT
DTSTART:20170525T190000Z
DTEND:20170525T193000Z
X-MICROSOFT-CDO-ALLDAYEVENT:FALSE
SUMMARY:Ribbon Cutting Hill Country Pregnancy Care Center
DESCRIPTION:Come join us for a Ribbon Cutting Ceremony for Hill Country Pregnancy Care Center. (link)
X-ALT-DESC;FMTTYPE=text/html:Come join us for a Ribbon Cutting Ceremony for Hill Country Pregnancy Care Center. (<a href="http://www.boernepregnancy.org/">link</a>)
LOCATION:Hill Country Pregnancy Care Center (MAP) 439 Fabra St. Boerne\, TX 78006 (830) 249-9717
UID:e.187.11628
SEQUENCE:3
DTSTAMP:20260423T041158Z
URL:https://business.boerne.org/events/details/ribbon-cutting-hill-country-pregnancy-care-center-11628
END:VEVENT

END:VCALENDAR
