BEGIN:VCALENDAR
VERSION:2.0
PRODID:-//ChamberMaster//Event Calendar 2.0//EN
METHOD:PUBLISH
X-PUBLISHED-TTL:P3D
REFRESH-INTERVAL:P3D
CALSCALE:GREGORIAN
BEGIN:VEVENT
DTSTART:20180118T173000Z
DTEND:20180118T180000Z
X-MICROSOFT-CDO-ALLDAYEVENT:FALSE
SUMMARY:Ribbon Cutting Harkrider Endodontics
DESCRIPTION:Come join us for a Ribbon Cutting Ceremony for  Harkrider Endodontics (link)
X-ALT-DESC;FMTTYPE=text/html:Come join us for a Ribbon Cutting Ceremony for&nbsp\; Harkrider Endodontics (<a href="http://harkriderendo.com/">link</a>)&nbsp\;
LOCATION:Seven Oaks 138 Old San Antonio Rd Ste. 501 (map) Boerne\, TX 78006
UID:e.187.13109
SEQUENCE:3
DTSTAMP:20260422T170631Z
URL:https://business.boerne.org/events/details/ribbon-cutting-harkrider-endodontics-13109
END:VEVENT

END:VCALENDAR
