BEGIN:VCALENDAR
VERSION:2.0
PRODID:-//ChamberMaster//Event Calendar 2.0//EN
METHOD:PUBLISH
X-PUBLISHED-TTL:P3D
REFRESH-INTERVAL:P3D
CALSCALE:GREGORIAN
BEGIN:VEVENT
DTSTART:20180626T163000Z
DTEND:20180626T170000Z
X-MICROSOFT-CDO-ALLDAYEVENT:FALSE
SUMMARY:Ribbon Cutting for Woodforest National Bank
DESCRIPTION:Come join us for the ribbon cutting ceremony at Woodforest National Bank\,
X-ALT-DESC;FMTTYPE=text/html:Come join us for the ribbon cutting ceremony at Woodforest National Bank\,
LOCATION:1381 S. Main St.\, (inside Walmart)\, Boerne\, TX 78006
UID:e.187.13922
SEQUENCE:3
DTSTAMP:20260420T074717Z
URL:https://business.boerne.org/events/details/ribbon-cutting-for-woodforest-national-bank-13922
END:VEVENT

END:VCALENDAR
