BEGIN:VCALENDAR
VERSION:2.0
PRODID:-//ChamberMaster//Event Calendar 2.0//EN
METHOD:PUBLISH
X-PUBLISHED-TTL:P3D
REFRESH-INTERVAL:P3D
CALSCALE:GREGORIAN
BEGIN:VEVENT
DTSTART:20191003T163000Z
DTEND:20191003T170000Z
X-MICROSOFT-CDO-ALLDAYEVENT:FALSE
SUMMARY:Ribbon Cutting for Wells Fargo Bank & Advisors
DESCRIPTION:Join us for a ribbon cutting celebrating Wells Fargo Bank and Advisors!
X-ALT-DESC;FMTTYPE=text/html:Join us for a ribbon cutting celebrating Wells Fargo Bank and Advisors!
LOCATION:205 W. Bandera Rd. Boerne\, TX 78006
UID:e.187.16785
SEQUENCE:3
DTSTAMP:20260419T205016Z
URL:https://business.boerne.org/events/details/ribbon-cutting-for-wells-fargo-bank-advisors-16785
END:VEVENT

END:VCALENDAR
