BEGIN:VCALENDAR
VERSION:2.0
PRODID:-//ChamberMaster//Event Calendar 2.0//EN
METHOD:PUBLISH
X-PUBLISHED-TTL:P3D
REFRESH-INTERVAL:P3D
CALSCALE:GREGORIAN
BEGIN:VEVENT
DTSTART:20170511T130000Z
DTEND:20170511T140000Z
X-MICROSOFT-CDO-ALLDAYEVENT:FALSE
SUMMARY:Ribbon Cutting for Walmart
DESCRIPTION:Come join us for a Ribbon Cutting Ceremony for Walmart  to celebrate Online Grocery Pick-up.
X-ALT-DESC;FMTTYPE=text/html:Come join us for a Ribbon Cutting Ceremony for Walmart &nbsp\;to celebrate Online Grocery Pick-up.
LOCATION:Walmart 1381 S. Main St. Boerne\, TX 78006
UID:e.187.11658
SEQUENCE:3
DTSTAMP:20260423T040721Z
URL:https://business.boerne.org/events/details/ribbon-cutting-for-walmart-11658
END:VEVENT

END:VCALENDAR
