BEGIN:VCALENDAR
VERSION:2.0
PRODID:-//ChamberMaster//Event Calendar 2.0//EN
METHOD:PUBLISH
X-PUBLISHED-TTL:P3D
REFRESH-INTERVAL:P3D
CALSCALE:GREGORIAN
BEGIN:VEVENT
DTSTART:20240919T183000Z
DTEND:20240919T190000Z
X-MICROSOFT-CDO-ALLDAYEVENT:FALSE
SUMMARY:Ribbon Cutting for Viva Pediatrics
DESCRIPTION:Join us for a ribbon cutting celebrating Viva Pediatrics!\n\n\n\nViva Pediatrics and their Board Certified Pediatricians and staff provide comprehensive and excellent health care for their patients from birth to eighteen years. They follow the guidelines of the American Academy of Pediatrics and vaccine schedule set forth by the Advisory Committee on Immunization Practices. They build long term\, collaborative relationships\, listen actively and practice compassionate medical care\, and promote healthy lifestyles! \n\n\n\nWEBSITE: Viva Pediatrics | www.vivapediatrics.com\n\nPHONE: (830) 357-5300\n\nLOCATION: 27511 IH 10 W.\, Bldg 1\,\, Boerne\, TX\, 78006
X-ALT-DESC;FMTTYPE=text/html:<span style="color:#000000\;"><font face="arial"><span style="font-size: 14px\;">Join us for a ribbon cutting celebrating Viva Pediatrics!</span></font><br />\n<br />\nViva Pediatrics and their Board Certified Pediatricians and staff provide comprehensive and excellent health care for their patients from birth to eighteen years. They follow the guidelines of the American Academy of Pediatrics and vaccine schedule set forth by the Advisory Committee on Immunization Practices. They build long term\, collaborative relationships\, listen actively and practice compassionate medical care\, and promote healthy lifestyles!&nbsp\;<br />\n<br />\n<span style="font-size:14px\;"><span style="font-family:arial\;">WEBSITE:&nbsp\;</span></span></span><a href="https://www.vivapediatrics.com/"><span style="color:#000000\;">Viva Pediatrics | www.vivapediatrics.com</span></a><br />\n<span style="color:#000000\;"><span style="font-size:14px\;"><span style="font-family:arial\;">PHONE: (830) 357-5300<br />\nLOCATION: 27511 IH 10 W.\, Bldg 1\,\, Boerne\, TX\, 78006</span></span></span><br />\n<br />\n<br />\n&nbsp\;
LOCATION:Viva Pediatrics 27511 IH 10 W.\, Bldg 1 Boerne\, TX. 78006
UID:e.187.28624
SEQUENCE:3
DTSTAMP:20260419T192603Z
URL:https://business.boerne.org/events/details/ribbon-cutting-for-viva-pediatrics-28624
END:VEVENT

END:VCALENDAR
