BEGIN:VCALENDAR
VERSION:2.0
PRODID:-//ChamberMaster//Event Calendar 2.0//EN
METHOD:PUBLISH
X-PUBLISHED-TTL:P3D
REFRESH-INTERVAL:P3D
CALSCALE:GREGORIAN
BEGIN:VEVENT
DTSTART:20171130T193000Z
DTEND:20171130T200000Z
X-MICROSOFT-CDO-ALLDAYEVENT:FALSE
SUMMARY:Ribbon Cutting for Vantage at Boerne
DESCRIPTION:Come join us for a Ribbon Cutting Celebration for Vantage at Boerne. (link)
X-ALT-DESC;FMTTYPE=text/html:Come join us for a Ribbon Cutting Celebration for Vantage at Boerne. (<a href="https://www.vantageatboerne.com/">link</a>)
LOCATION:Vantage at Boerne (map) 135 Old San Antonio Rd. Boerne\, Tx 78006 830-999-0999
UID:e.187.12086
SEQUENCE:3
DTSTAMP:20260422T184332Z
URL:https://business.boerne.org/events/details/ribbon-cutting-for-vantage-at-boerne-12086
END:VEVENT

END:VCALENDAR
