BEGIN:VCALENDAR
VERSION:2.0
PRODID:-//ChamberMaster//Event Calendar 2.0//EN
METHOD:PUBLISH
X-PUBLISHED-TTL:P3D
REFRESH-INTERVAL:P3D
CALSCALE:GREGORIAN
BEGIN:VEVENT
DTSTART:20190220T214500Z
DTEND:20190220T223000Z
X-MICROSOFT-CDO-ALLDAYEVENT:FALSE
SUMMARY:Ribbon Cutting for Uptown Chic\, Plaza Taxco and Boerne Cork & Keg
DESCRIPTION:Join us for 3 special ribbon cutting ceremonies at 153 Main as we celebrate the grand openings of Uptown Chic\, Plaza Taxco and Boerne Cork & Keg!
X-ALT-DESC;FMTTYPE=text/html:Join us for 3 special ribbon cutting ceremonies at 153 Main as we celebrate the grand openings of Uptown Chic\, Plaza Taxco and Boerne Cork &amp\; Keg!
LOCATION:153 Main St. Boerne\, TX 78006
UID:e.187.15904
SEQUENCE:3
DTSTAMP:20260419T192112Z
URL:https://business.boerne.org/events/details/ribbon-cutting-for-uptown-chic-plaza-taxco-and-boerne-cork-keg-15904
END:VEVENT

END:VCALENDAR
