BEGIN:VCALENDAR
VERSION:2.0
PRODID:-//ChamberMaster//Event Calendar 2.0//EN
METHOD:PUBLISH
X-PUBLISHED-TTL:P3D
REFRESH-INTERVAL:P3D
CALSCALE:GREGORIAN
BEGIN:VEVENT
DTSTART:20190131T214500Z
DTEND:20190131T221500Z
X-MICROSOFT-CDO-ALLDAYEVENT:FALSE
SUMMARY:Ribbon Cutting for Twin Sisters Home & Flooring's Grand Opening
DESCRIPTION:Come join us for the grand opening ribbon cutting ceremony for Twin Sisters Home & Flooring!
X-ALT-DESC;FMTTYPE=text/html:Come join us for the grand opening ribbon cutting ceremony for Twin Sisters Home &amp\; Flooring!
LOCATION:1407 S. Main Street Boerne\, TX 78006
UID:e.187.15833
SEQUENCE:3
DTSTAMP:20260419T210800Z
URL:https://business.boerne.org/events/details/ribbon-cutting-for-twin-sisters-home-flooring-s-grand-opening-15833
END:VEVENT

END:VCALENDAR
