BEGIN:VCALENDAR
VERSION:2.0
PRODID:-//ChamberMaster//Event Calendar 2.0//EN
METHOD:PUBLISH
X-PUBLISHED-TTL:P3D
REFRESH-INTERVAL:P3D
CALSCALE:GREGORIAN
BEGIN:VEVENT
DTSTART:20191015T183000Z
DTEND:20191015T190000Z
X-MICROSOFT-CDO-ALLDAYEVENT:FALSE
SUMMARY:Ribbon Cutting for Tusculum Brewing Co.
DESCRIPTION:Join us for a ribbon cutting celebrating the grand opening of Tusculum Brewing Company!\n\n\n\nTusculum Brewing Company offers a brewery\, taproom\, restaurant\, downtown living space\, and most importantly a great atmosphere and awesome beer!
X-ALT-DESC;FMTTYPE=text/html:Join us for a ribbon cutting celebrating the grand opening of Tusculum Brewing Company!<br />\n<br />\nTusculum Brewing Company offers a brewery\, taproom\, restaurant\, downtown living space\, and most importantly a great atmosphere and awesome beer!
LOCATION:236 S. Main St. Boerne\, TX 78006
UID:e.187.16796
SEQUENCE:3
DTSTAMP:20260419T191609Z
URL:https://business.boerne.org/events/details/ribbon-cutting-for-tusculum-brewing-co-16796
END:VEVENT

END:VCALENDAR
