BEGIN:VCALENDAR
VERSION:2.0
PRODID:-//ChamberMaster//Event Calendar 2.0//EN
METHOD:PUBLISH
X-PUBLISHED-TTL:P3D
REFRESH-INTERVAL:P3D
CALSCALE:GREGORIAN
BEGIN:VEVENT
DTSTART:20170803T183000Z
DTEND:20170803T190000Z
X-MICROSOFT-CDO-ALLDAYEVENT:FALSE
SUMMARY:Ribbon Cutting for True Value Boerne Outdoor Power
DESCRIPTION:Come join us for a Ribbon Cutting Ceremony for True Value Boerne Outdoor Power. (link)
X-ALT-DESC;FMTTYPE=text/html:Come join us for a Ribbon Cutting Ceremony for True Value Boerne Outdoor Power. (<a href="http://www.boerneoutdoorpower.com/">link</a>)
LOCATION:True Value Boerne Outdoor Power (map) 635 State Hwy. 46 E.\, Ste. 402 Boerne\, TX 78006
UID:e.187.11720
SEQUENCE:3
DTSTAMP:20260423T005140Z
URL:https://business.boerne.org/events/details/ribbon-cutting-for-true-value-boerne-outdoor-power-11720
END:VEVENT

END:VCALENDAR
