BEGIN:VCALENDAR
VERSION:2.0
PRODID:-//ChamberMaster//Event Calendar 2.0//EN
METHOD:PUBLISH
X-PUBLISHED-TTL:P3D
REFRESH-INTERVAL:P3D
CALSCALE:GREGORIAN
BEGIN:VEVENT
DTSTART:20241008T183000Z
DTEND:20241008T190000Z
X-MICROSOFT-CDO-ALLDAYEVENT:FALSE
SUMMARY:Ribbon Cutting for Trio Rehab's RISE Program!
DESCRIPTION:Join us for a ribbon cutting celebrating Trio Rehabilitation & Wellness Solution's new RISE Program!\n\n\n\nTrio Rehab is committed to helping you rise above the challenges of Parkinson's and other movement disorders by launching their new RISE Program. These classes are both anecdotal and evidence-based and are intended to help manage symptoms\, improve physical health\, and slow the progression of your disease. Each class is led by a licensed physical\, occupational\, or speech therapy practitioner. Classes include cardiovascular exercise\, large amplitude movements\, dual-task training\, and other forms of skilled based training. Speech classes will address vocal loudness\, cognition\, and oral-motor movements intended to reduce the appearance of a masked face.\n\n\n\nTrio Rehab is excited to partner with Anytime Fitness of Boerne for these classes! \n\n\n\nWEBSITE: RISE - Trio Rehabilitation & Wellness Solutions www.triorehab.com/rise/\n\nPHONE: (830) 331-8604\n\nLOCATION: 1022 River Road\, Ste 6\, Boerne\, TX 78006\n\n\n\n*This Ribbon cutting will take place at Anytime Fitness located at 1018 River Rd.\, Boerne\, TX 78006.
X-ALT-DESC;FMTTYPE=text/html:<span style="color:#000000\;">Join us for a ribbon cutting celebrating Trio Rehabilitation &amp\; Wellness Solution&#39\;s new RISE Program!</span><br />\n<br />\n<span style="font-size:14px\;"><span style="font-family:arial\;"><span style="color: black\; background-image: initial\; background-position: initial\; background-size: initial\; background-repeat: initial\; background-attachment: initial\; background-origin: initial\; background-clip: initial\;">Trio Rehab is committed to helping you rise above the challenges of Parkinson&#39\;s and other movement disorders by launching their new RISE Program. These classes are both anecdotal and evidence-based and are intended to help manage symptoms\, improve physical health\, and slow the progression of your disease. Each class is led by a licensed physical\, occupational\, or speech therapy practitioner. Classes include cardiovascular exercise\, large amplitude movements\, dual-task training\, and other forms of skilled based training. Speech classes will address vocal loudness\, cognition\, and oral-motor movements intended to reduce the appearance of a masked face.</span></span></span><br />\n<br />\n<span style="color:#000000\;">Trio Rehab is excited to partner with Anytime Fitness of Boerne for these classes!&nbsp\;<br />\n<br />\nWEBSITE:&nbsp\;</span><a href="https://www.triorehab.com/rise/">RISE - Trio Rehabilitation &amp\; Wellness Solutions www.triorehab.com/rise/</a><br />\n<span style="color:#000000\;">PHONE: (830) 331-8604<br />\nLOCATION: 1022 River Road\, Ste 6\, Boerne\, TX 78006</span><br />\n<br />\n<span style="color:#000000\;">*This Ribbon cutting will take place at Anytime Fitness located at 1018 River Rd.\, Boerne\, TX 78006.</span>
LOCATION:Anytime Fitness Boerne 1018 River Road Boerne\, TX. 78006
UID:e.187.28656
SEQUENCE:3
DTSTAMP:20260419T175029Z
URL:https://business.boerne.org/events/details/ribbon-cutting-for-trio-rehab-s-rise-program-28656
END:VEVENT

END:VCALENDAR
