BEGIN:VCALENDAR
VERSION:2.0
PRODID:-//ChamberMaster//Event Calendar 2.0//EN
METHOD:PUBLISH
X-PUBLISHED-TTL:P3D
REFRESH-INTERVAL:P3D
CALSCALE:GREGORIAN
BEGIN:VEVENT
DTSTART:20190528T163000Z
DTEND:20190528T170000Z
X-MICROSOFT-CDO-ALLDAYEVENT:FALSE
SUMMARY:Ribbon Cutting for Trinity Eye Center's 25th Anniversary
DESCRIPTION:Join us for a ribbon cutting celebrating Trinity Eye Center's 25th anniversary!\n\n\n\nTrinity Eye Center offers comprehensive eye disease treatment\, vision service and optical boutique service.
X-ALT-DESC;FMTTYPE=text/html:Join us for a ribbon cutting celebrating Trinity Eye Center&#39\;s 25th anniversary!<br />\n<br />\nTrinity Eye Center offers comprehensive eye disease treatment\, vision service and optical boutique service.
LOCATION:Trinity Eye Center 1201 S. Main St.\, Ste. 108 Boerne\, TX 78006
UID:e.187.16380
SEQUENCE:3
DTSTAMP:20260419T143614Z
URL:https://business.boerne.org/events/details/ribbon-cutting-for-trinity-eye-center-s-25th-anniversary-16380
END:VEVENT

END:VCALENDAR
