BEGIN:VCALENDAR
VERSION:2.0
PRODID:-//ChamberMaster//Event Calendar 2.0//EN
METHOD:PUBLISH
X-PUBLISHED-TTL:P3D
REFRESH-INTERVAL:P3D
CALSCALE:GREGORIAN
BEGIN:VEVENT
DTSTART:20191031T183000Z
DTEND:20191031T190000Z
X-MICROSOFT-CDO-ALLDAYEVENT:FALSE
SUMMARY:Ribbon Cutting for Traditions at The Depot
DESCRIPTION:Join us for a ribbon cutting celebrating Traditions at The Depot!\n\n\n\nTraditions at the Depot is an upscale boutique in downtown Boerne\, nestled on the banks of the Cibolo Creek. Stop by and shop for the latest fashions\, jewelry\, accessories\, shoes and gifts. Their friendly staff will make your visit enjoyable.
X-ALT-DESC;FMTTYPE=text/html:Join us for a ribbon cutting celebrating Traditions at The Depot!<br />\n<br />\nTraditions at the Depot is an upscale boutique in downtown Boerne\, nestled on the banks of the Cibolo Creek. Stop by and shop for the latest fashions\, jewelry\, accessories\, shoes and gifts. Their friendly staff will make your visit enjoyable.
LOCATION:518 S. Main St. Boerne\, TX 78006
UID:e.187.17106
SEQUENCE:3
DTSTAMP:20260419T205810Z
URL:https://business.boerne.org/events/details/ribbon-cutting-for-traditions-at-the-depot-17106
END:VEVENT

END:VCALENDAR
