BEGIN:VCALENDAR
VERSION:2.0
PRODID:-//ChamberMaster//Event Calendar 2.0//EN
METHOD:PUBLISH
X-PUBLISHED-TTL:P3D
REFRESH-INTERVAL:P3D
CALSCALE:GREGORIAN
BEGIN:VEVENT
DTSTART:20190411T183000Z
DTEND:20190411T190000Z
X-MICROSOFT-CDO-ALLDAYEVENT:FALSE
SUMMARY:Ribbon Cutting for Tour de Boerne
DESCRIPTION:Join us for a ribbon cutting celebrating Tour de Boerne\, hosted by St. Peter's Catholic Church!\n\n\n\nTour de Boerne is a bike ride that will take you through the beautiful Texas Hill Country. Towns included in the routes are Boerne\, Waring\, Welfare\, and Comfort. You will be challenged along the way and welcomed back to St. Peter's Catholic Church campus for a BBQ meal\, cold craft beer and great conversation. Oh the stories we will tell! Some may be "fish stories" but all will be enjoyed! Tour de Boerne is a fundraising event for the St Peter's Boerne Knights of Columbus (Council #10940). The KOC is a Catholic fraternal organization dedicated to promoting educational\, charitable\, religious and social welfare works and rendering mutual aid and assistance to sick and needy members in the community.
X-ALT-DESC;FMTTYPE=text/html:Join us for a ribbon cutting celebrating Tour de Boerne\, hosted by St. Peter&#39\;s Catholic Church!<br />\n<br />\nTour de Boerne is a bike ride that will take you through the beautiful Texas Hill Country. Towns included in the routes are Boerne\, Waring\, Welfare\, and Comfort. You will be challenged along the way and welcomed back to St. Peter&rsquo\;s Catholic Church campus for a BBQ meal\, cold craft beer and great conversation. Oh the stories we will tell! Some may be &ldquo\;fish stories&rdquo\; but all will be enjoyed! Tour de Boerne is a fundraising event for the St Peter&#39\;s Boerne Knights of Columbus (Council #10940). The KOC is a Catholic fraternal organization dedicated to promoting educational\, charitable\, religious and social welfare works and rendering mutual aid and assistance to sick and needy members in the community.
LOCATION:St. Peter's Catholic Church 202 W. Kronksosky St. Boerne\, TX 78006
UID:e.187.16368
SEQUENCE:3
DTSTAMP:20260419T160927Z
URL:https://business.boerne.org/events/details/ribbon-cutting-for-tour-de-boerne-16368
END:VEVENT

END:VCALENDAR
