BEGIN:VCALENDAR
VERSION:2.0
PRODID:-//ChamberMaster//Event Calendar 2.0//EN
METHOD:PUBLISH
X-PUBLISHED-TTL:P3D
REFRESH-INTERVAL:P3D
CALSCALE:GREGORIAN
BEGIN:VEVENT
DTSTART:20241029T163000Z
DTEND:20241029T170000Z
X-MICROSOFT-CDO-ALLDAYEVENT:FALSE
SUMMARY:Ribbon Cutting for Time Out Sitters
DESCRIPTION:Join us for a ribbon cutting celebrating Time Out Sitters!\n\n\n\nWhether it's a night out\, a sick child on the day of an important work meeting\, church nursery help or on-site wedding childcare\, Time Out Sitters has you covered! Our highly vetted\, professional sitters provide safe\, fun\, and engaging care for your little ones. We can't wait for you to experience the TOS difference!\n\n\n\nTOS is owned and operated by local moms\, Katie Rakowitz and Tiffany Murgo.\n\n\n\nKids are welcome to join us for the ribbon cutting! Toys and crafts will be available!\n\n\n\nWEBSITE: Trusted Babysitters and Pet Sitters | Time Out Sitters\n\nPHONE: (210) 563-1948\n\n\n\n*This ribbon cutting will take place at The Greater Boerne Chamber of Commerce.
X-ALT-DESC;FMTTYPE=text/html:<span style="color:#000000\;"><font face="arial"><span style="font-size: 14px\;">Join us for a ribbon cutting celebrating Time Out Sitters!</span></font><br />\n<br />\nWhether it&#39\;s a night out\, a sick child on the day of an important work meeting\, church nursery help or on-site wedding childcare\, Time Out Sitters has you covered! Our highly vetted\, professional sitters provide safe\, fun\, and engaging care for your little ones. We can&#39\;t wait for you to experience the TOS difference!<br />\n<br />\nTOS is owned and operated by local moms\, Katie Rakowitz and Tiffany Murgo.<br />\n<br />\nKids are welcome to join us for the ribbon cutting! Toys and crafts will be available!<br />\n<br />\n<span style="font-size:14px\;"><span style="font-family:arial\;">WEBSITE:&nbsp\;</span></span></span><a href="https://timeoutsitters.com/"><span style="color:#000000\;">Trusted Babysitters and Pet Sitters | Time Out Sitters</span></a><br />\n<span style="color:#000000\;"><span style="font-size:14px\;"><span style="font-family:arial\;">PHONE:&nbsp\;</span></span>(210) 563-1948<br />\n<br />\n*This ribbon cutting will take place at The Greater Boerne Chamber of Commerce.</span>
LOCATION:The Greater Boerne Chamber of Commerce 121 S Main St Boerne\, TX 78006
UID:e.187.28520
SEQUENCE:3
DTSTAMP:20260419T162650Z
URL:https://business.boerne.org/events/details/ribbon-cutting-for-time-out-sitters-28520
END:VEVENT

END:VCALENDAR
