BEGIN:VCALENDAR
VERSION:2.0
PRODID:-//ChamberMaster//Event Calendar 2.0//EN
METHOD:PUBLISH
X-PUBLISHED-TTL:P3D
REFRESH-INTERVAL:P3D
CALSCALE:GREGORIAN
BEGIN:VEVENT
DTSTART:20180123T173000Z
DTEND:20180123T180000Z
X-MICROSOFT-CDO-ALLDAYEVENT:FALSE
SUMMARY:Ribbon Cutting for Thushan DeSilva\, MD Board Certified Dermatologist
DESCRIPTION:Come join us for a Ribbon Cutting Ceremony for Thushan DeSilva\, MD Board Certified Dermatologist. (link)
X-ALT-DESC;FMTTYPE=text/html:Come join us for a Ribbon Cutting Ceremony for&nbsp\;Thushan DeSilva\, MD Board Certified Dermatologist. <a href="http://www.desilvaderm.com/">(link</a>)&nbsp\;
LOCATION:34910 IH 10 W\, Ste. 501 Boerne\, TX 78006
UID:e.187.13108
SEQUENCE:3
DTSTAMP:20260422T171605Z
URL:https://business.boerne.org/events/details/ribbon-cutting-for-thushan-desilva-md-board-certified-dermatologist-13108
END:VEVENT

END:VCALENDAR
