BEGIN:VCALENDAR
VERSION:2.0
PRODID:-//ChamberMaster//Event Calendar 2.0//EN
METHOD:PUBLISH
X-PUBLISHED-TTL:P3D
REFRESH-INTERVAL:P3D
CALSCALE:GREGORIAN
BEGIN:VEVENT
DTSTART:20241025T210000Z
DTEND:20241025T213000Z
X-MICROSOFT-CDO-ALLDAYEVENT:FALSE
SUMMARY:Ribbon Cutting for The Rocker Taqueria and Bakery
DESCRIPTION:Join us for a ribbon cutting celebrating the grand opening of The Rocker Taqueria and Bakery!\n\n\n\nThe Rocker Taqueria and Bakery is excited to offer their delicious food and baked goods to the Boerne community! You can't miss them on Main Street\, as they have a HUGE rocking chair in front of their building! \n\n\n\nPHONE: (830) 331-4233\n\nLOCATION: 904 N Main St\, Boerne\, TX 78006
X-ALT-DESC;FMTTYPE=text/html:<span style="color:#000000\;"><span style="font-size:14px\;"><span style="font-family:arial\;">Join us for a ribbon cutting celebrating the grand opening of The Rocker Taqueria and Bakery!<br />\n<br />\nThe Rocker Taqueria and Bakery is excited to offer their delicious food and baked goods to the Boerne community! You can&#39\;t miss them on Main Street\, as they have a HUGE rocking chair in front of their building!&nbsp\;</span></span></span><br />\n<br />\nPHONE:<span style="color:#000000\;"><span style="font-size:14px\;"><span style="font-family:arial\;">&nbsp\;(830) 331-4233<br />\nLOCATION: 904 N Main St\, Boerne\, TX 78006</span></span></span><br />\n&nbsp\;
LOCATION:The Rocker Taqueria and Bakery 904 N Main St Boerne\, TX 78006
UID:e.187.28759
SEQUENCE:3
DTSTAMP:20260419T162941Z
URL:https://business.boerne.org/events/details/ribbon-cutting-for-the-rocker-taqueria-and-bakery-28759
END:VEVENT

END:VCALENDAR
