BEGIN:VCALENDAR
VERSION:2.0
PRODID:-//ChamberMaster//Event Calendar 2.0//EN
METHOD:PUBLISH
X-PUBLISHED-TTL:P3D
REFRESH-INTERVAL:P3D
CALSCALE:GREGORIAN
BEGIN:VEVENT
DTSTART:20180918T183000Z
DTEND:20180918T190000Z
X-MICROSOFT-CDO-ALLDAYEVENT:FALSE
SUMMARY:Ribbon Cutting for the Republican Party of Kendall County 's New Location
DESCRIPTION:Come join us for the ribbon cutting ceremony for the opening of the new office for the Republican Party of Kendall County
X-ALT-DESC;FMTTYPE=text/html:Come join us for the ribbon cutting ceremony for the opening of the new office for the Republican Party of Kendall County
LOCATION:624 N. Main St.\, Boerne\, TX
UID:e.187.14879
SEQUENCE:3
DTSTAMP:20260420T030806Z
URL:https://business.boerne.org/events/details/ribbon-cutting-for-the-republican-party-of-kendall-county-s-new-location-14879
END:VEVENT

END:VCALENDAR
