BEGIN:VCALENDAR
VERSION:2.0
PRODID:-//ChamberMaster//Event Calendar 2.0//EN
METHOD:PUBLISH
X-PUBLISHED-TTL:P3D
REFRESH-INTERVAL:P3D
CALSCALE:GREGORIAN
BEGIN:VEVENT
DTSTART:20191119T173000Z
DTEND:20191119T180000Z
X-MICROSOFT-CDO-ALLDAYEVENT:FALSE
SUMMARY:Ribbon Cutting for The Pharmacy at Bergheim
DESCRIPTION:Join us for a ribbon cutting celebrating The Pharmacy at Bergheim!
X-ALT-DESC;FMTTYPE=text/html:Join us for a ribbon cutting celebrating The Pharmacy at Bergheim!
LOCATION:1 FM 3351\, Ste. 115 Boerne\, TX 78006
UID:e.187.17132
SEQUENCE:3
DTSTAMP:20260419T210510Z
URL:https://business.boerne.org/events/details/ribbon-cutting-for-the-pharmacy-at-bergheim-17132
END:VEVENT

END:VCALENDAR
