BEGIN:VCALENDAR
VERSION:2.0
PRODID:-//ChamberMaster//Event Calendar 2.0//EN
METHOD:PUBLISH
X-PUBLISHED-TTL:P3D
REFRESH-INTERVAL:P3D
CALSCALE:GREGORIAN
BEGIN:VEVENT
DTSTART:20171206T230000Z
DTEND:20171207T000000Z
X-MICROSOFT-CDO-ALLDAYEVENT:FALSE
SUMMARY:Ribbon Cutting for The PEO Link Inc.
DESCRIPTION:Come join us for a Ribbon Cutting Ceremony for The PEO Link Inc.  (link)\n\nPark on the upper level near Perry's Steakhouse and enter the office building entrance.
X-ALT-DESC;FMTTYPE=text/html:Come join us for a Ribbon Cutting Ceremony for The PEO Link Inc.&nbsp\;&nbsp\;<a href="http://www.thepeolink.com/">(link</a>)<br />\n<span style="font-family:calibri\,sans-serif\;"><span style="font-size:11.0pt\;">Park on the upper level near Perry&#39\;s Steakhouse and enter the office building entrance.&nbsp\;&nbsp\;</span></span>
LOCATION:The PEO Link Inc. The Shops at La Cantera (map) 15900 La Cantera Parkway Ste. 20255 San Antonio\, Texas
UID:e.187.12083
SEQUENCE:3
DTSTAMP:20260422T171207Z
URL:https://business.boerne.org/events/details/ribbon-cutting-for-the-peo-link-inc-12083
END:VEVENT

END:VCALENDAR
