BEGIN:VCALENDAR
VERSION:2.0
PRODID:-//ChamberMaster//Event Calendar 2.0//EN
METHOD:PUBLISH
X-PUBLISHED-TTL:P3D
REFRESH-INTERVAL:P3D
CALSCALE:GREGORIAN
BEGIN:VEVENT
DTSTART:20260326T163000Z
DTEND:20260326T170000Z
X-MICROSOFT-CDO-ALLDAYEVENT:FALSE
SUMMARY:Ribbon Cutting for The Model Box
DESCRIPTION:Join us for a ribbon cutting celebrating The Model Box!\n\n\n\nThe Model Box is a specialty hobby shop and community space focused on scale modeling and related hobbies\, offering a wide selection of historic and gaming model kits\, supplies\, and tools for builders of all ages. The business provides a welcoming environment where enthusiasts can learn\, share techniques\, and work on projects together\, and it hosts events like seminars and demonstrations with experienced modelers to help both beginners and seasoned hobbyists grow their skills. In addition to products and expertise\, The Model Box fosters a social atmosphere for hobbyists and families\, making it a local hub for creative hands-on activities and community engagement.\n\n\n\nWEBSITE: The Model Box | Scale Modeling Shop & Community   A place where scale modeling is learned\, shared\, and passed on.\n\nPHONE: (714) 742-7855\n\nLOCATION: 1022 N Main St.\, Boerne\, TX. 78006
X-ALT-DESC;FMTTYPE=text/html:<span style="font-size:14px\;"><span style="font-family:arial\;"><span style="color:#000000\;">Join us for a ribbon cutting celebrating The Model Box!<br />\n<br />\n<strong data-end="41" data-start="0">The Model Box</strong> is a specialty hobby shop and community space focused on scale modeling and related hobbies\, offering a wide selection of historic and gaming model kits\, supplies\, and tools for builders of all ages. The business provides a welcoming environment where enthusiasts can learn\, share techniques\, and work on projects together\, and it hosts events like seminars and demonstrations with experienced modelers to help both beginners and seasoned hobbyists grow their skills. In addition to products and expertise\, The Model Box fosters a social atmosphere for hobbyists and families\, making it a local hub for creative hands-on activities and community engagement.</span></span></span><br />\n<br />\n<span style="color:#000000\;">WEBSITE:&nbsp\;</span><a href="https://themodelbox.co/">The Model Box | Scale Modeling Shop &amp\; Community &ndash\; A place where scale modeling is learned\, shared\, and passed on.</a><br />\n<span style="color:#000000\;">PHONE: (714) 742-7855<br />\nLOCATION: 1022 N Main St.\, Boerne\, TX. 78006</span><br />\n&nbsp\;
LOCATION:The Model Box 1022 N Main St Boerne\, TX 78006
UID:e.187.32281
SEQUENCE:3
DTSTAMP:20260420T065553Z
URL:https://business.boerne.org/events/details/ribbon-cutting-for-the-model-box-32281
END:VEVENT

END:VCALENDAR
