BEGIN:VCALENDAR
VERSION:2.0
PRODID:-//ChamberMaster//Event Calendar 2.0//EN
METHOD:PUBLISH
X-PUBLISHED-TTL:P3D
REFRESH-INTERVAL:P3D
CALSCALE:GREGORIAN
BEGIN:VEVENT
DTSTART:20240927T183000Z
DTEND:20240927T190000Z
X-MICROSOFT-CDO-ALLDAYEVENT:FALSE
SUMMARY:Ribbon Cutting for The Memory Lab: The Maker Space of Memories
DESCRIPTION:Join us for a ribbon cutting as we celebrate The Memory Lab: The Maker Space of Memories at the Patrick Heath Public Library! \n\n\n\nThe Memory Lab: The Maker Space of Memories at the Patrick Heath Public Library will offer to patrons free access to digitization equipment. Our goal is to help preserve Boerne's\, and the surrounding Hill Country's\, histories starting with the people who live here. If you have photographs\, documents\, letters\, or even recipes you would like to preserve please come on down to the Memory Lab at the Library. Sarah Habeeb\, our Memory Lab Coordinator\, will be happy to train you on the equipment and offer assistance as needed. The lab officially opens October 1st and the hours are Tuesday and Thursdays from 1PM to 6PM\; Wednesday and Fridays from 9Am to 2PM\; and every fourth Saturday of the month from 10AM-3PM. The Memory Lab is supported by the Mellon Foundation.\n\n\n\nWEBSITE: Library | Boerne\, TX - Official Website\n\nPHONE: (830) 249-3053\n\nLOCATION: 451 N Main St.\, Building 100\, Boerne\, TX 78006
X-ALT-DESC;FMTTYPE=text/html:<p><span style="font-size:14px\;"><span style="font-family:arial\;"><span style="color:black\;">Join us for a ribbon cutting as we celebrate The Memory Lab: The Maker Space of Memories at the Patrick Heath Public Library!&nbsp\;</span></span></span><br />\n<br />\n<span style="color:#000000\;">The Memory Lab: The Maker Space of Memories at the Patrick Heath Public Library will offer to patrons free access to digitization equipment. Our goal is to help preserve Boerne&#39\;s\, and the surrounding Hill Country&#39\;s\, histories starting with the people who live here. If you have photographs\, documents\, letters\, or even recipes you would like to preserve please come on down to the Memory Lab at the Library. Sarah Habeeb\, our Memory Lab Coordinator\, will be happy to train you on the equipment and offer assistance as needed. The lab officially opens October 1st and the hours are&nbsp\;Tuesday and Thursdays from 1PM to 6PM\; Wednesday and Fridays from 9Am to 2PM\; and every fourth Saturday of the month from 10AM-3PM. The Memory Lab is supported by the Mellon Foundation.</span><br />\n<br />\n<font face="arial"><span style="font-size: 14px\;"><span style="color:#000000\;">WEBSITE:</span>&nbsp\;</span></font><a href="https://www.ci.boerne.tx.us/2295/Library">Library | Boerne\, TX - Official Website</a><br />\n<span style="color:#000000\;"><font face="arial"><span style="font-size: 14px\;">PHONE:&nbsp\;</span></font>(830) 249-3053<br />\n<font face="arial"><span style="font-size: 14px\;">LOCATION: 451 N Main St.\, Building 100\, Boerne\, TX 78006</span></font></span></p>\n
LOCATION:The Patrick Heath Public Library 451 N Main St.\, Building 100 Boerne\, TX 78006
UID:e.187.28651
SEQUENCE:3
DTSTAMP:20260419T193454Z
URL:https://business.boerne.org/events/details/ribbon-cutting-for-the-memory-lab-the-maker-space-of-memories-28651
END:VEVENT

END:VCALENDAR
