BEGIN:VCALENDAR
VERSION:2.0
PRODID:-//ChamberMaster//Event Calendar 2.0//EN
METHOD:PUBLISH
X-PUBLISHED-TTL:P3D
REFRESH-INTERVAL:P3D
CALSCALE:GREGORIAN
BEGIN:VEVENT
DTSTART:20170406T223000Z
DTEND:20170406T230000Z
X-MICROSOFT-CDO-ALLDAYEVENT:FALSE
SUMMARY:Ribbon Cutting for the Kendall County Youth Agriculture and Equestrian Center
DESCRIPTION:Come join us for a Ribbon Cutting Ceremony for the Kendall County Youth Agriculture  and Equestrian Center.
X-ALT-DESC;FMTTYPE=text/html:Come join us for a Ribbon Cutting Ceremony for the Kendall County Youth Agriculture&nbsp\; and Equestrian Center.
LOCATION:648 FM 289 (map) Comfort\, TX 78013
UID:e.187.11622
SEQUENCE:3
DTSTAMP:20260423T060649Z
URL:https://business.boerne.org/events/details/ribbon-cutting-for-the-kendall-county-youth-agriculture-and-equestrian-center-11622
END:VEVENT

END:VCALENDAR
