BEGIN:VCALENDAR
VERSION:2.0
PRODID:-//ChamberMaster//Event Calendar 2.0//EN
METHOD:PUBLISH
X-PUBLISHED-TTL:P3D
REFRESH-INTERVAL:P3D
CALSCALE:GREGORIAN
BEGIN:VEVENT
DTSTART:20191112T193000Z
DTEND:20191112T200000Z
X-MICROSOFT-CDO-ALLDAYEVENT:FALSE
SUMMARY:Ribbon Cutting for the Kendall County Junior Livestock Association
DESCRIPTION:Join us for a ribbon cutting celebrating the Kendall County Junior Livestock Association!\n\n\n\nThe mission of the Kendall County Junior Livestock Association is to encourage young men and women to become future farmers and ranchers through educational experiences in livestock production\, as well as hold an annual livestock show and sale to benefit youth to advance their higher education.
X-ALT-DESC;FMTTYPE=text/html:Join us for a ribbon cutting celebrating the Kendall County Junior Livestock Association!<br />\n<br />\nThe mission of the Kendall County Junior Livestock Association is to encourage young men and women to become future farmers and ranchers through educational experiences in livestock production\, as well as hold an annual livestock show and sale to benefit youth to advance their higher education.
LOCATION:Kendall County Youth Ag & Equestrian Center (YAEC) 649 FM 289 Comfort\, TX 78013
UID:e.187.17093
SEQUENCE:3
DTSTAMP:20260419T210726Z
URL:https://business.boerne.org/events/details/ribbon-cutting-for-the-kendall-county-junior-livestock-association-17093
END:VEVENT

END:VCALENDAR
