BEGIN:VCALENDAR
VERSION:2.0
PRODID:-//ChamberMaster//Event Calendar 2.0//EN
METHOD:PUBLISH
X-PUBLISHED-TTL:P3D
REFRESH-INTERVAL:P3D
CALSCALE:GREGORIAN
BEGIN:VEVENT
DTSTART:20230321T183000Z
DTEND:20230321T190000Z
X-MICROSOFT-CDO-ALLDAYEVENT:FALSE
SUMMARY:Ribbon Cutting for The Junkluggers 2nd Anniversary
DESCRIPTION:Join us for a ribbon cutting celebrating The Junkluggers' 2nd Anniversary!\n\n\n\nThe Junkluggers is your trusted eco-friendly residential and commercial junk removal company serving Boerne\, San Antonio\, New Braunfels and the surrounding area.  Their professional team of luggers specialize in a wide variety of junk removal projects including garage cleanouts\, estate cleanouts\, storage unit cleanouts\, furniture & mattress removal\, curbside\, office cleanouts\, warehouse cleanouts\, e-waste recycling\, and more!  The Junkluggers even has a nationwide goal to eliminate 100% of reusable junk items in landfills by the year 2025.  To book a free\, no-obligation estimate or professional removal service\, click here or call 800 LUG-JUNK!
X-ALT-DESC;FMTTYPE=text/html:<font face="arial"><span style="font-size: 14px\;">Join us for a ribbon cutting celebrating The Junkluggers&#39\; 2nd Anniversary!</span></font><br />\n<br />\n<span style="font-size:14px\;"><span style="font-family:arial\;">The Junkluggers is your trusted eco-friendly residential and commercial junk removal company serving Boerne\, San Antonio\, New Braunfels and the surrounding area.&nbsp\; Their professional team of luggers specialize in a wide variety of junk removal projects including garage cleanouts\, estate cleanouts\, storage unit cleanouts\, furniture &amp\; mattress removal\,&nbsp\;curbside\, office cleanouts\, warehouse cleanouts\, e-waste recycling\, and more!&nbsp\; The Junkluggers even has a nationwide goal to eliminate 100% of reusable junk items in landfills by the year 2025.&nbsp\; To book a free\, no-obligation estimate or professional removal service\, <a href="https://www.junkluggers.com/">click here</a> or call 800 LUG-JUNK!&nbsp\; &nbsp\; &nbsp\;</span></span> &nbsp\;&nbsp\;
LOCATION:Greater Boerne Chamber of Commerce 121 S Main St Boerne\, TX. 78006
UID:e.187.21419
SEQUENCE:3
DTSTAMP:20260423T102109Z
URL:https://business.boerne.org/events/details/ribbon-cutting-for-the-junkluggers-2nd-anniversary-21419
END:VEVENT

END:VCALENDAR
