BEGIN:VCALENDAR
VERSION:2.0
PRODID:-//ChamberMaster//Event Calendar 2.0//EN
METHOD:PUBLISH
X-PUBLISHED-TTL:P3D
REFRESH-INTERVAL:P3D
CALSCALE:GREGORIAN
BEGIN:VEVENT
DTSTART:20180925T163000Z
DTEND:20180925T170000Z
X-MICROSOFT-CDO-ALLDAYEVENT:FALSE
SUMMARY:Ribbon Cutting for The Hill Christian Academy
DESCRIPTION:Join us for a Ribbon Cutting Ceremony for The Hill Christian Academy in Pipe Creek
X-ALT-DESC;FMTTYPE=text/html:Join us for a Ribbon Cutting Ceremony for&nbsp\;<a href="http://www.thehillchristianacademy.com/"><strong>The Hill Christian Academy</strong></a> in Pipe Creek&nbsp\;
LOCATION:The Hill Christian Academy (map) 888 Mountain View Lane Pipe Creek\, TX 78063
UID:e.187.14865
SEQUENCE:3
DTSTAMP:20260420T025630Z
URL:https://business.boerne.org/events/details/ribbon-cutting-for-the-hill-christian-academy-14865
END:VEVENT

END:VCALENDAR
