BEGIN:VCALENDAR
VERSION:2.0
PRODID:-//ChamberMaster//Event Calendar 2.0//EN
METHOD:PUBLISH
X-PUBLISHED-TTL:P3D
REFRESH-INTERVAL:P3D
CALSCALE:GREGORIAN
BEGIN:VEVENT
DTSTART:20190514T183000Z
DTEND:20190514T190000Z
X-MICROSOFT-CDO-ALLDAYEVENT:FALSE
SUMMARY:Ribbon Cutting for The Graphix House
DESCRIPTION:Join us for a ribbon cutting celebrating The Graphix House!
X-ALT-DESC;FMTTYPE=text/html:Join us for a ribbon cutting celebrating The Graphix House!
LOCATION:The Graphix House 105 B Parkway Boerne\, TX 78006
UID:e.187.16395
SEQUENCE:3
DTSTAMP:20260419T143408Z
URL:https://business.boerne.org/events/details/ribbon-cutting-for-the-graphix-house-16395
END:VEVENT

END:VCALENDAR
