BEGIN:VCALENDAR
VERSION:2.0
PRODID:-//ChamberMaster//Event Calendar 2.0//EN
METHOD:PUBLISH
X-PUBLISHED-TTL:P3D
REFRESH-INTERVAL:P3D
CALSCALE:GREGORIAN
BEGIN:VEVENT
DTSTART:20230411T183000Z
DTEND:20230411T190000Z
X-MICROSOFT-CDO-ALLDAYEVENT:FALSE
SUMMARY:Ribbon Cutting for the Family Place Libraries Program
DESCRIPTION:Join us for a ribbon cutting celebrating The Family Place Libraries Program!\n\n\n\nFamily Place builds on the knowledge that good health\, early learning\, parental involvement and supportive communities play a critical role in a young child's growth and development. The overall goal of Family Place Libraries is to develop and institutionalize a family friendly environment by transforming libraries into community centers for literacy\, early childhood development\, parent education and engagement\, family support and community information.  A five-week program for toddlers and their parents/caregivers\, this fun\, informal\, play-based program provides a rich environment of toys\, books and art activities. Families have the opportunity to spend time together\, make new friends\, and talk one-on-one with a different community resource professional each week. Additional core components of Family Place include a Parent/Teacher book collection and public space play area to spark imagination and early literacy development.
X-ALT-DESC;FMTTYPE=text/html:<font face="arial"><span style="font-size: 14px\;">Join us for a ribbon cutting celebrating The Family Place Libraries Program!</span></font><br />\n<br />\n<span style="font-size:14px\;"><span style="background:white\;"><span style="color:#333333\;">Family Place builds on the knowledge that good health\, early learning\, parental involvement and supportive communities play a critical role in a young child&rsquo\;s growth and development. The overall goal of Family Place Libraries is to develop and institutionalize a family friendly environment by transforming libraries into community centers for literacy\, early childhood development\, parent education and engagement\, family support and community information.&nbsp\; A five-week program for toddlers and their parents/caregivers\, this fun\, informal\, play-based program provides a rich environment of toys\, books and art activities. Families have the opportunity to spend time together\, make new friends\, and talk one-on-one with a different community resource professional each week.&nbsp\;Additional core components of Family Place include a Parent/Teacher book collection and public space play area to spark imagination and early literacy development.</span></span></span><br />\n&nbsp\;
LOCATION:Patrick Heath Public Library 451 N Main St Boerne\, TX. 78006
UID:e.187.21462
SEQUENCE:3
DTSTAMP:20260423T120125Z
URL:https://business.boerne.org/events/details/ribbon-cutting-for-the-family-place-libraries-program-21462
END:VEVENT

END:VCALENDAR
