BEGIN:VCALENDAR
VERSION:2.0
PRODID:-//ChamberMaster//Event Calendar 2.0//EN
METHOD:PUBLISH
X-PUBLISHED-TTL:P3D
REFRESH-INTERVAL:P3D
CALSCALE:GREGORIAN
BEGIN:VEVENT
DTSTART:20250429T163000Z
DTEND:20250429T170000Z
X-MICROSOFT-CDO-ALLDAYEVENT:FALSE
SUMMARY:Ribbon Cutting for The Carlson Law Firm
DESCRIPTION:Join us for a ribbon cutting celebrating The Carlson Law Firm's 19th location - Boerne!\n\n\n\nLed by Boerne local\, Edna Elizondo\, The Carlson Law Firm brings compassionate legal representation to the Hill Country. Our Boerne Injury Lawyers represent victims injured through car wrecks\, slip and falls\, catastrophic injuries\, and other personal injuries. When you choose The Carlson Law Firm\, you're not just choosing attorneys\; you're choosing advocates\, friends\, and a team dedicated to your cause. Join us in our journey. Let's write a story of justice together. \n\n \n\nWe care. We can help."\n\n\n\nThere will be a grazing table\, dessert\, and door prizes to celebrate!\n\nGuests are asked to RSVP here: https://carlsonattorneys.formstack.com/forms/boernerc\n\nRSVP is not required to attend.\n\n\n\nWEBSITE: Texas Personal Injury Lawyers | The Carlson Law Firm\n\nPHONE: (830) 470-8777\n\nLOCATION: 1421 S Main St.\, Ste 113\,\, Boerne\, TX 78006
X-ALT-DESC;FMTTYPE=text/html:<span style="color:#000000\;"><span style="font-size:14px\;">Join us for a ribbon cutting celebrating The Carlson Law Firm&#39\;s 19th location - Boerne!</span><br />\n<br />\n<span style="font-size:11.0pt\;">Led by Boerne local\, Edna Elizondo\, The Carlson Law Firm brings compassionate legal representation to the Hill Country. Our Boerne Injury Lawyers represent victims injured through car wrecks\, slip and falls\, catastrophic injuries\, and other personal injuries. When you choose The Carlson Law Firm\, you&rsquo\;re not just choosing attorneys\; you&rsquo\;re choosing advocates\, friends\, and a team dedicated to your cause. Join us in our journey. Let&#39\;s write a story of justice together. </span><br />\n&nbsp\;<br />\n<span style="font-size:11.0pt\;">We care. We can help.&rdquo\;</span><br />\n<br />\n<span style="font-size:14px\;">There will be a grazing table\, dessert\, and door prizes to celebrate!<br />\nGuests are asked to RSVP here:&nbsp\;</span></span><span style="font-family:aptos\,sans-serif\;"><span style="font-size:11.0pt\;"><a href="https://nam10.safelinks.protection.outlook.com/?url=https%3A%2F%2Fcarlsonattorneys.formstack.com%2Fforms%2Fboernerc&amp\;data=05%7C02%7Csteely%40boerne.org%7C170ee6a0d8b2489c194208dd6e211a97%7C8d825765118643cc86dbca64defef9a2%7C0%7C0%7C638787810992307735%7CUnknown%7CTWFpbGZsb3d8eyJFbXB0eU1hcGkiOnRydWUsIlYiOiIwLjAuMDAwMCIsIlAiOiJXaW4zMiIsIkFOIjoiTWFpbCIsIldUIjoyfQ%3D%3D%7C0%7C%7C%7C&amp\;sdata=CD9fR32lq%2B0mO6Akn2IH27netjEgyT5SEZmoWzrMpZs%3D&amp\;reserved=0"><span style="color:#000000\;">https://carlsonattorneys.formstack.com/forms/boernerc</span></a><br />\n<span style="color:#000000\;">RSVP is not required to attend.</span></span></span><br />\n<br />\n<span style="color:#000000\;"><span style="font-size:14px\;">WEBSITE:&nbsp\;</span></span><a href="https://www.carlsonattorneys.com/"><span style="color:#000000\;">Texas Personal Injury Lawyers | The Carlson Law Firm</span></a><br />\n<span style="color:#000000\;"><span style="font-size:14px\;">PHONE: (830) 470-8777<br />\nLOCATION: 1421 S Main St.\, Ste 113\,\, Boerne\, TX 78006</span></span><br />\n<br />\n<br />\n&nbsp\;
LOCATION:The Carlson Law Firm 1421 S Main St.\, Ste 113 Boerne\, TX 78006
UID:e.187.29269
SEQUENCE:3
DTSTAMP:20260419T161229Z
URL:https://business.boerne.org/events/details/ribbon-cutting-for-the-carlson-law-firm-29269
END:VEVENT

END:VCALENDAR
