BEGIN:VCALENDAR
VERSION:2.0
PRODID:-//ChamberMaster//Event Calendar 2.0//EN
METHOD:PUBLISH
X-PUBLISHED-TTL:P3D
REFRESH-INTERVAL:P3D
CALSCALE:GREGORIAN
BEGIN:VEVENT
DTSTART:20190920T163000Z
DTEND:20190920T170000Z
X-MICROSOFT-CDO-ALLDAYEVENT:FALSE
SUMMARY:Ribbon Cutting for The Bubble Tea Factory
DESCRIPTION:Join us for a ribbon cutting celebrating The Bubble Tea Factory!\n\n\n\nThe Bubble Tea Factory serves beautiful Bubble Teas\, gourmet coffee drinks and Taiwanese ice cream.
X-ALT-DESC;FMTTYPE=text/html:Join us for a ribbon cutting celebrating The Bubble Tea Factory!<br />\n<br />\nThe Bubble Tea Factory serves beautiful Bubble Teas\, gourmet coffee drinks and Taiwanese ice cream.
LOCATION:1415 E. Blanco Rd. Boerne\, TX 78006
UID:e.187.16780
SEQUENCE:3
DTSTAMP:20260419T175242Z
URL:https://business.boerne.org/events/details/ribbon-cutting-for-the-bubble-tea-factory-16780
END:VEVENT

END:VCALENDAR
