BEGIN:VCALENDAR
VERSION:2.0
PRODID:-//ChamberMaster//Event Calendar 2.0//EN
METHOD:PUBLISH
X-PUBLISHED-TTL:P3D
REFRESH-INTERVAL:P3D
CALSCALE:GREGORIAN
BEGIN:VEVENT
DTSTART:20190620T193000Z
DTEND:20190621T000000Z
X-MICROSOFT-CDO-ALLDAYEVENT:FALSE
SUMMARY:Ribbon Cutting for The Bevy Hotel Boerne
DESCRIPTION:Join us for a ribbon cutting ceremony celebrating The Bevy Hotel Boerne - A DoubleTree by Hilton!\n\n\n\nRibbon Cutting begins at 2:30 pm\n\nOpen House begins at 3:00 pm\n\n\n\nThe Bevy Hotel Boerne\, a DoubleTree by Hilton\, is nestled in the heart of the Hill Country\, just minutes from charming downtown Boerne. The Bevy is a boutique full-service hotel and conference center like no other in the Texas Hill Country!
X-ALT-DESC;FMTTYPE=text/html:Join us for a ribbon cutting ceremony celebrating The Bevy Hotel Boerne - A DoubleTree by Hilton!<br />\n<br />\nRibbon Cutting begins at 2:30 pm<br />\nOpen House begins at 3:00 pm<br />\n<br />\nThe Bevy Hotel Boerne\, a DoubleTree by Hilton\, is nestled in the heart of the Hill Country\, just minutes from charming downtown Boerne. The Bevy is a boutique full-service hotel and conference center like no other in the Texas Hill Country!
LOCATION:The Bevy Hotel Boerne 101 Herff Road Boerne\, TX 78006
UID:e.187.16388
SEQUENCE:3
DTSTAMP:20260419T143740Z
URL:https://business.boerne.org/events/details/ribbon-cutting-for-the-bevy-hotel-boerne-16388
END:VEVENT

END:VCALENDAR
