BEGIN:VCALENDAR
VERSION:2.0
PRODID:-//ChamberMaster//Event Calendar 2.0//EN
METHOD:PUBLISH
X-PUBLISHED-TTL:P3D
REFRESH-INTERVAL:P3D
CALSCALE:GREGORIAN
BEGIN:VEVENT
DTSTART:20241010T210000Z
DTEND:20241010T213000Z
X-MICROSOFT-CDO-ALLDAYEVENT:FALSE
SUMMARY:Ribbon Cutting for The AgriCultural Museum & Arts Center
DESCRIPTION:Join us for a ribbon cutting celebrating The AgriCultural Museum & Arts Center!\n\n\n\nFounded in 1986 as a nonprofit\, the AgriCultural Museum & Arts Center has grown from a collection of antique farm equipment to "preserve the past for future generations" into what their mission is today. They now partner with organizations like Hill Country Council for the Arts and Girl with Grit to bring the community together to learn the value of arts\, education\, growth\, and connection.\n\n\n\nThis event is open to our entire community\, and all are welcome to attend! Word has it that there will be a tractor pull featuring an exciting special guest! \n\n\n\nWEBSITE: The AgriCultural Museum and Arts Center | theagricultural.org\n\nPHONE: (210) 445-1080\n\nLOCATION: 102 City Park Rd\, Boerne\, TX 78006
X-ALT-DESC;FMTTYPE=text/html:<span style="color:#000000\;"><span style="font-size:14px\;"><span style="font-family:arial\;">Join us for a ribbon cutting celebrating The AgriCultural Museum &amp\; Arts Center!<br />\n<br />\nFounded in 1986 as a nonprofit\, the AgriCultural Museum &amp\; Arts Center has grown from a collection of antique farm equipment to &quot\;preserve the past for future generations&quot\; into what their mission is today. They now partner with organizations like Hill Country Council for the Arts and Girl with Grit to bring the community together to learn the value of arts\, education\, growth\, and connection.<br />\n<br />\nThis event is open to our entire community\, and all are welcome to attend! Word has it that there will be a tractor pull featuring an exciting special guest!&nbsp\;<br />\n<br />\nWEBSITE:&nbsp\;</span></span></span><a href="https://theagricultural.org/">The AgriCultural Museum and Arts Center | theagricultural.org</a><br />\nPHONE:<span style="color:#000000\;"><span style="font-size:14px\;"><span style="font-family:arial\;">&nbsp\;(210) 445-1080<br />\nLOCATION: 102 City Park Rd\, Boerne\, TX 78006</span></span></span><br />\n&nbsp\;
LOCATION:The AgriCultural Museum & Arts Center 102 City Park Rd Boerne\, TX 78006
UID:e.187.28657
SEQUENCE:3
DTSTAMP:20260419T163017Z
URL:https://business.boerne.org/events/details/ribbon-cutting-for-the-agricultural-museum-arts-center-28657
END:VEVENT

END:VCALENDAR
