BEGIN:VCALENDAR
VERSION:2.0
PRODID:-//ChamberMaster//Event Calendar 2.0//EN
METHOD:PUBLISH
X-PUBLISHED-TTL:P3D
REFRESH-INTERVAL:P3D
CALSCALE:GREGORIAN
BEGIN:VEVENT
DTSTART:20230306T160000Z
DTEND:20230306T163000Z
X-MICROSOFT-CDO-ALLDAYEVENT:FALSE
SUMMARY:Ribbon Cutting for the 100th Anniversary of Graham Monument
DESCRIPTION:Join us for a ribbon cutting celebrating the 100th Anniversary of Graham Monument!\n\n\n\nJoin The City of Boerne in celebrating the 100th anniversary of the Graham Monument\, a memorial to fallen soldiers from the area\, located at Veterans Plaza. \n\n\n\nThere will be re-enactment photos starting at 9:30am\, with the ceremony beginning at 10am.
X-ALT-DESC;FMTTYPE=text/html:<font face="arial"><span style="font-size: 14px\;">Join us for a ribbon cutting celebrating the 100th Anniversary of Graham Monument!<br />\n<br />\nJoin The City of Boerne in celebrating the 100th anniversary of the Graham Monument\, a memorial to fallen soldiers from the area\, located at Veterans Plaza.&nbsp\;<br />\n<br />\nThere will be re-enactment photos starting at 9:30am\, with the ceremony beginning at 10am.&nbsp\;</span></font>
LOCATION:Veterans Plaza 801 S Main St Boerne\, TX. 78006
UID:e.187.21396
SEQUENCE:3
DTSTAMP:20260421T121132Z
URL:https://business.boerne.org/events/details/ribbon-cutting-for-the-100th-anniversary-of-graham-monument-21396
END:VEVENT

END:VCALENDAR
