BEGIN:VCALENDAR
VERSION:2.0
PRODID:-//ChamberMaster//Event Calendar 2.0//EN
METHOD:PUBLISH
X-PUBLISHED-TTL:P3D
REFRESH-INTERVAL:P3D
CALSCALE:GREGORIAN
BEGIN:VEVENT
DTSTART:20180306T173000Z
DTEND:20180306T180000Z
X-MICROSOFT-CDO-ALLDAYEVENT:FALSE
SUMMARY:Ribbon Cutting for Texas Treasures Fine Art Gallery & Frame Shop
DESCRIPTION:Come join us for a Ribbon Cutting for Texas Treasures Fine Art Gallery & Frame Shop. (link)
X-ALT-DESC;FMTTYPE=text/html:Come join us for a Ribbon Cutting for&nbsp\;Texas Treasures Fine Art Gallery &amp\; Frame Shop. (<a href="https://www.texastreasuresfineart.com/">link</a>)
LOCATION:Texas Treasures Fine Art Gallery & Frame Shop (map) 605 S. Main St. Boerne\, TX 78006
UID:e.187.13529
SEQUENCE:3
DTSTAMP:20260422T121430Z
URL:https://business.boerne.org/events/details/ribbon-cutting-for-texas-treasures-fine-art-gallery-frame-shop-13529
END:VEVENT

END:VCALENDAR
