BEGIN:VCALENDAR
VERSION:2.0
PRODID:-//ChamberMaster//Event Calendar 2.0//EN
METHOD:PUBLISH
X-PUBLISHED-TTL:P3D
REFRESH-INTERVAL:P3D
CALSCALE:GREGORIAN
BEGIN:VEVENT
DTSTART:20180524T214500Z
DTEND:20180524T220000Z
X-MICROSOFT-CDO-ALLDAYEVENT:FALSE
SUMMARY:Ribbon Cutting for Texas Ranches for Sale
DESCRIPTION:Come join us for a Ribbon Cutting Ceremony for Texas Ranches For Sale- New Location.
X-ALT-DESC;FMTTYPE=text/html:Come join us for a Ribbon Cutting Ceremony for Texas Ranches For Sale- New Location.
LOCATION:Texas Ranches for Sale 609 FM 289 Comfort\, TX 78006
UID:e.187.13688
SEQUENCE:3
DTSTAMP:20260422T090227Z
URL:https://business.boerne.org/events/details/ribbon-cutting-for-texas-ranches-for-sale-13688
END:VEVENT

END:VCALENDAR
