BEGIN:VCALENDAR
VERSION:2.0
PRODID:-//ChamberMaster//Event Calendar 2.0//EN
METHOD:PUBLISH
X-PUBLISHED-TTL:P3D
REFRESH-INTERVAL:P3D
CALSCALE:GREGORIAN
BEGIN:VEVENT
DTSTART:20190725T163000Z
DTEND:20190725T170000Z
X-MICROSOFT-CDO-ALLDAYEVENT:FALSE
SUMMARY:Ribbon Cutting for Texas Physical Therapy Specialists
DESCRIPTION:Join us for a ribbon cutting celebrating Texas Physical Therapy Specialists!\n\n\n\nAt Texas Physical Therapy Specialists\, they pride themselves on being the Best First Choice  in musculoskeletal care. Their expert physical therapists have a wealth of knowledge in a wide range of specialties and are committed to addressing your specific needs.
X-ALT-DESC;FMTTYPE=text/html:Join us for a ribbon cutting celebrating Texas Physical Therapy Specialists!<br />\n<br />\nAt Texas Physical Therapy Specialists\, they pride themselves on being the Best First Choice&reg\; in musculoskeletal care. Their expert physical therapists have a wealth of knowledge in a wide range of specialties and are committed to addressing your specific needs.
LOCATION:Texas Physical Therapy Specialists 112 Herff Rd.\, Ste. 310 Boerne\, TX 78006
UID:e.187.16585
SEQUENCE:3
DTSTAMP:20260419T160826Z
URL:https://business.boerne.org/events/details/ribbon-cutting-for-texas-physical-therapy-specialists-16585
END:VEVENT

END:VCALENDAR
