BEGIN:VCALENDAR
VERSION:2.0
PRODID:-//ChamberMaster//Event Calendar 2.0//EN
METHOD:PUBLISH
X-PUBLISHED-TTL:P3D
REFRESH-INTERVAL:P3D
CALSCALE:GREGORIAN
BEGIN:VEVENT
DTSTART:20250116T193000Z
DTEND:20250116T200000Z
X-MICROSOFT-CDO-ALLDAYEVENT:FALSE
SUMMARY:Ribbon Cutting for Texas Hill Country Barbecue
DESCRIPTION:Join us for a ribbon cutting celebrating Texas Hill Country Barbecue!\n\n\n\nTexas Hill Country Barbecue produces award-winning BBQ available for catering and corporate\, private and community events. \n\n \n\nWEBSITE: Facebook | Texas Hill Country Barbecue\n\nPHONE: (210) 859-3737\n\n\n\n*This ribbon cutting will take place at The Greater Boerne Chamber of Commerce.
X-ALT-DESC;FMTTYPE=text/html:<span style="color:#000000\;"><span style="font-family:arial\;">Join us for a ribbon cutting celebrating Texas Hill Country Barbecue!<br />\n<br />\nTexas Hill Country Barbecue produces award-winning BBQ available for catering and corporate\, private and community events.&nbsp\;<br />\n&nbsp\;<br />\nWEBSITE: <a href="https://www.facebook.com/justaguyandsomebbq">Facebook | Texas Hill Country Barbecue</a></span></span><br />\n<span style="color:#000000\;"><span style="font-family:arial\;">PHONE: (210) 859-3737<br />\n<br />\n*This ribbon cutting will take place at The Greater Boerne Chamber of Commerce.</span></span><br />\n&nbsp\;
LOCATION:The Greater Boerne Chamber of Commerce 121 S Main St Boerne\, TX. 78006
UID:e.187.28980
SEQUENCE:3
DTSTAMP:20260423T082653Z
URL:https://business.boerne.org/events/details/ribbon-cutting-for-texas-hill-country-barbecue-28980
END:VEVENT

END:VCALENDAR
