BEGIN:VCALENDAR
VERSION:2.0
PRODID:-//ChamberMaster//Event Calendar 2.0//EN
METHOD:PUBLISH
X-PUBLISHED-TTL:P3D
REFRESH-INTERVAL:P3D
CALSCALE:GREGORIAN
BEGIN:VEVENT
DTSTART:20190723T183000Z
DTEND:20190723T190000Z
X-MICROSOFT-CDO-ALLDAYEVENT:FALSE
SUMMARY:Ribbon Cutting for Tessmer Law Firm
DESCRIPTION:Please join us for the ribbon cutting ceremony celebrating Tessmer Law Firm's new location in Boerne!\n\n\n\nTessmer Law Firm\, P.L.L.C. is owned and operated by Heather Clement Tessmer\, attorney at law. She has over 18 years of experience practicing law. Tessmer Law Firm has evolved into a "full-service" firm   assisting clients through every facet of legal representation in family law\, estate planning\, and personal injury cases.
X-ALT-DESC;FMTTYPE=text/html:Please join us for the ribbon cutting ceremony celebrating Tessmer Law Firm&#39\;s new location in Boerne!<br />\n<br />\nTessmer Law Firm\, P.L.L.C. is owned and operated by Heather Clement Tessmer\, attorney at law. She has over 18 years of experience practicing law. Tessmer Law Firm has evolved into a &ldquo\;full-service&rdquo\; firm &ndash\; assisting clients through every facet of legal representation in family law\, estate planning\, and personal injury cases.
LOCATION:Tessmer Law Firm 402 E. San Antonio Ave. Boerne\, TX 78006
UID:e.187.16404
SEQUENCE:3
DTSTAMP:20260419T161141Z
URL:https://business.boerne.org/events/details/ribbon-cutting-for-tessmer-law-firm-16404
END:VEVENT

END:VCALENDAR
