BEGIN:VCALENDAR
VERSION:2.0
PRODID:-//ChamberMaster//Event Calendar 2.0//EN
METHOD:PUBLISH
X-PUBLISHED-TTL:P3D
REFRESH-INTERVAL:P3D
CALSCALE:GREGORIAN
BEGIN:VEVENT
DTSTART:20190620T163000Z
DTEND:20190620T170000Z
X-MICROSOFT-CDO-ALLDAYEVENT:FALSE
SUMMARY:Ribbon Cutting for Ten Peaks Media
DESCRIPTION:Join us for a ribbon cutting celebrating Ten Peaks Media!\n\n\n\nTen Peaks Media is an ad agency specializing in video\, website\, photography\, publishing\, content creation and business management.
X-ALT-DESC;FMTTYPE=text/html:Join us for a ribbon cutting celebrating Ten Peaks Media!<br />\n<br />\nTen Peaks Media is an ad agency specializing in video\, website\, photography\, publishing\, content creation and business management.
LOCATION:309 Water St. Boerne\, TX 78006
UID:e.187.16425
SEQUENCE:3
DTSTAMP:20260419T143549Z
URL:https://business.boerne.org/events/details/ribbon-cutting-for-ten-peaks-media-16425
END:VEVENT

END:VCALENDAR
