BEGIN:VCALENDAR
VERSION:2.0
PRODID:-//ChamberMaster//Event Calendar 2.0//EN
METHOD:PUBLISH
X-PUBLISHED-TTL:P3D
REFRESH-INTERVAL:P3D
CALSCALE:GREGORIAN
BEGIN:VEVENT
DTSTART:20190709T163000Z
DTEND:20190709T170000Z
X-MICROSOFT-CDO-ALLDAYEVENT:FALSE
SUMMARY:Ribbon Cutting for Surgery Center of Boerne
DESCRIPTION:Join us for a ribbon cutting celebrating Surgery Center of Boerne!\n\n\n\nSurgery Center of Boerne focuses on offering a high quality\, service oriented environment for your surgical procedure. Their mission is to care for every patient and their family as if they were their own.
X-ALT-DESC;FMTTYPE=text/html:Join us for a ribbon cutting celebrating Surgery Center of Boerne!<br />\n<br />\nSurgery Center of Boerne focuses on offering a high quality\, service oriented environment for your surgical procedure. Their mission is to care for every patient and their family as if they were their own.
LOCATION:Surgery Center of Boerne 112 Herff Rd.\, Ste. 200 Boerne\, TX 78006
UID:e.187.16424
SEQUENCE:3
DTSTAMP:20260419T143814Z
URL:https://business.boerne.org/events/details/ribbon-cutting-for-surgery-center-of-boerne-16424
END:VEVENT

END:VCALENDAR
