BEGIN:VCALENDAR
VERSION:2.0
PRODID:-//ChamberMaster//Event Calendar 2.0//EN
METHOD:PUBLISH
X-PUBLISHED-TTL:P3D
REFRESH-INTERVAL:P3D
CALSCALE:GREGORIAN
BEGIN:VEVENT
DTSTART:20191121T193000Z
DTEND:20191121T200000Z
X-MICROSOFT-CDO-ALLDAYEVENT:FALSE
SUMMARY:Ribbon Cutting for Supercuts
DESCRIPTION:Join us for a ribbon cutting celebrating Supercuts!
X-ALT-DESC;FMTTYPE=text/html:Join us for a ribbon cutting celebrating Supercuts!
LOCATION:1445 S. Main St.\, Ste. 110 Boerne\, TX 78006
UID:e.187.17124
SEQUENCE:3
DTSTAMP:20260419T204315Z
URL:https://business.boerne.org/events/details/ribbon-cutting-for-supercuts-17124
END:VEVENT

END:VCALENDAR
